BEGIN:VCALENDAR
VERSION:2.0
PRODID:-//Centenário - Corpo Nacional de Escutas - ECPv6.15.20//NONSGML v1.0//EN
CALSCALE:GREGORIAN
METHOD:PUBLISH
X-WR-CALNAME:Centenário - Corpo Nacional de Escutas
X-ORIGINAL-URL:https://centenario.escutismo.pt
X-WR-CALDESC:Eventos para Centenário - Corpo Nacional de Escutas
REFRESH-INTERVAL;VALUE=DURATION:PT1H
X-Robots-Tag:noindex
X-PUBLISHED-TTL:PT1H
BEGIN:VTIMEZONE
TZID:UTC
BEGIN:STANDARD
TZOFFSETFROM:+0000
TZOFFSETTO:+0000
TZNAME:UTC
DTSTART:20210101T000000
END:STANDARD
END:VTIMEZONE
BEGIN:VEVENT
DTSTART;VALUE=DATE:20230901
DTEND;VALUE=DATE:20231101
DTSTAMP:20260420T035134
CREATED:20221107T153133Z
LAST-MODIFIED:20230223T120436Z
UID:1594-1693526400-1698796799@centenario.escutismo.pt
SUMMARY:Congresso Escutista (data a confirmar)
DESCRIPTION:O Congresso que encerrará as celebrações do Centenário do CNE será voltado para a sociedade civil e está previsto ser realizado em Coimbra.  \nTerá como objetivo promover a característica essencial do CNE: um movimento seguro de educação não formal de crianças\, adolescentes e jovens\, com o apoio de adultos voluntários\, adequadamente formados e motivados para esta missão evangelizadora e educativa ao serviço de uma juventude mais ativa na nossa sociedade. \nDo programa do Congresso\, ainda em construção\, vão constar painéis dedicados a estas dimensões educativas\, comunitárias e sociais. \nContamos ainda apresentar as conclusões do Fórum do Centenário\, dando voz aos jovens e fazendo jus ao mote “ask the boy”\, tão relevante numa associação de juventude.
URL:https://centenario.escutismo.pt/event/congresso-escutista/
LOCATION:Coimbra
CATEGORIES:Nacional
END:VEVENT
BEGIN:VEVENT
DTSTART;VALUE=DATE:20230801
DTEND;VALUE=DATE:20230807
DTSTAMP:20260420T035134
CREATED:20221107T152856Z
LAST-MODIFIED:20230212T170314Z
UID:1592-1690848000-1691366399@centenario.escutismo.pt
SUMMARY:Jornadas Mundiais da Juventude 2023
DESCRIPTION:A Jornada Mundial da Juventude (JMJ) é um encontro de jovens de todo o mundo com o Papa. É\, simultaneamente\, uma peregrinação\, uma festa da juventude\, uma expressão da Igreja universal e um momento forte de evangelização do mundo juvenil. Acontece a cada dois\, três ou quatro anos como um encontro internacional\, numa cidade escolhida pelo Papa\, sempre com a sua presença. Reúne milhares de jovens para celebrar a fé e a pertença à Igreja. Em 2023 a cidade escolhida é Lisboa. \nComo escuteiros do CNE queremos participar em todas as fases desta Jornada: em toda a dinâmica de preparação e realização; nas iniciativas de cada comunidade e diocese (de 25 a 31 de julho de 2023) e na semana final em Lisboa das Jornadas Mundiais da Juventude\, de 1 a 6 de agosto de 2023. Acreditamos que esta iniciativa aproximará os nossos jovens dos jovens da sua comunidade e jovens de outros países participantes. \n  \nQueres ser voluntário na JMJ?\nO Comité Organizador Local (COL) está a recrutar chefes de equipa para coordenarem as várias equipas de trabalho. Para mais detalhes sobre o perfil pretendido para chefes de equipa e o formulário de inscrição consulta a circular disponível neste link.  \nDecora a letra do Hino\nhttps://youtu.be/H1x2t2EstlI \nUma equipa de escuteiros traduziu o hino para Língua Gestual portuguesa e mais de 100 escuteiros de todo o país “cantaram” em LGP. https://youtu.be/cE2KNVK_zR4 \nOuve o Podcast “VIRÓ DISCO E TOC’À FÉ!” que dá a conhecer a Jornada e as vivências de quem já participou em edições anteriores da JMJ https://open.spotify.com/show/3B8yVj3nmNAA6ERSkAOJyg?si=aba7beb5f3d54b84\nlink para noticias da lis sobre as jornadas
URL:https://centenario.escutismo.pt/event/jornadas-mundiais-da-juventude-2023/
LOCATION:Lisboa\, Famões
CATEGORIES:Nacional
ATTACH;FMTTYPE=image/jpeg:https://centenario.escutismo.pt/wp-content/uploads/sites/24/2022/11/Ativo-12@2x-100.jpg
END:VEVENT
BEGIN:VEVENT
DTSTART;VALUE=DATE:20230527
DTEND;VALUE=DATE:20230528
DTSTAMP:20260420T035134
CREATED:20221107T152601Z
LAST-MODIFIED:20230212T170742Z
UID:1590-1685145600-1685231999@centenario.escutismo.pt
SUMMARY:Fórum 100
DESCRIPTION:O Fórum 100 é a tua oportunidade de representar o teu agrupamento\, núcleo ou região a nível nacional numa discussão e debate de opiniões e ideias para o futuro do CNE! Qualquer escuteiro ou Dirigente pode participar basta ter uma ideia para apresentar. \nEsta atividade vai estar dividida em três momentos:  \n\nLocal – No teu Agrupamento\nRegional – Na tua Região\nNacional – dia 27 de maio de 2023 em Braga\n\nEstes são os temas que vamos discutir por todo o país de forma a encontrarmos ideias e soluções de como as implementar no CNE: \n\nEducação Não Formal\nSustentabilidade\nComunidade\nUm tema a tua escolha\n\nAs conclusões deste Fórum vão ser apresentadas em outubro de 2023\, no Congresso de encerramento das celebrações do centenário.
URL:https://centenario.escutismo.pt/event/forum-100/
LOCATION:Braga
CATEGORIES:Nacional
ATTACH;FMTTYPE=image/png:https://centenario.escutismo.pt/wp-content/uploads/sites/24/2022/11/Ativo-18@4x-e1676221652828.png
END:VEVENT
BEGIN:VEVENT
DTSTART;VALUE=DATE:20230527
DTEND;VALUE=DATE:20230529
DTSTAMP:20260420T035134
CREATED:20221107T152234Z
LAST-MODIFIED:20230223T121701Z
UID:1587-1685145600-1685318399@centenario.escutismo.pt
SUMMARY:Festa do Centenário
DESCRIPTION:No dia 27 de maio de 2023 o CNE celebra 100 anos! \nQueremos convidar todos os escuteiros a estarem presentes naquela que será a grande Festa do Centenário\, a realizar-se em Braga na data do nosso aniversário. \nO programa do evento inclui diversas atividades a decorrer espalhadas pela cidade: \n \nTodas as informações estão disponíveis nas circulares: \n\nPara Participantes\nPara Staff\nPara Elementos Externos\n\n 
URL:https://centenario.escutismo.pt/event/festa-do-centenario/
LOCATION:Braga
CATEGORIES:Nacional
ATTACH;FMTTYPE=image/png:https://centenario.escutismo.pt/wp-content/uploads/sites/24/2022/11/Ativo-16@2x.png
END:VEVENT
BEGIN:VEVENT
DTSTART;VALUE=DATE:20221211
DTEND;VALUE=DATE:20221212
DTSTAMP:20260420T035134
CREATED:20221107T151937Z
LAST-MODIFIED:20230212T170652Z
UID:1584-1670716800-1670803199@centenario.escutismo.pt
SUMMARY:Luz da Paz de Belém 2022
DESCRIPTION:
URL:https://centenario.escutismo.pt/event/luz-da-paz-de-belem-2022/
LOCATION:Santuário de Fátima
CATEGORIES:Nacional
ATTACH;FMTTYPE=image/jpeg:https://centenario.escutismo.pt/wp-content/uploads/sites/24/2022/11/Ativo-14@2x-100.jpg
END:VEVENT
BEGIN:VEVENT
DTSTART;VALUE=DATE:20221111
DTEND;VALUE=DATE:20221114
DTSTAMP:20260420T035134
CREATED:20221107T151148Z
LAST-MODIFIED:20221108T122513Z
UID:1577-1668124800-1668383999@centenario.escutismo.pt
SUMMARY:XXI FESCUT - 100 CamYnhos a (RÉ)Começar
DESCRIPTION:Após dois anos de interregno\, o Fescut está de volta! \nA 20ªedição do Festival Nacional da Canção Escutista está a ser organizada pelo Clã 100 Maximiliano de Kolbe do Agrupamento 1177 Famões\, vencedor da edição anterior. \nVai decorrer no Município de Odivelas\, Núcleo Moinhos de Vento\, Região de Lisboa. \nEm ano de centenário do CNE\, os membros da IV Secção\, são convidados a deixar a sua marca através da música e viver a experiência do tema proposto pelo clã: “100 CamYnhos a (RÉ)Começar”. \nPara além da música\, O Fescut será um espaço de encontro e partilha onde através de várias atividades\, os caminheiros\, companheiros e aeronautas poderão aprofundar a sua vivência de IV secção\, na busca incessante pelo Homem-Novo. \nAfinem as vossas vozes e coloquem o vosso talento à prova! \n–
URL:https://centenario.escutismo.pt/event/xxi-fescut-100-camynhos-a-recomecar/
LOCATION:Lisboa\, Famões
CATEGORIES:Nacional
ATTACH;FMTTYPE=image/jpeg:https://centenario.escutismo.pt/wp-content/uploads/sites/24/2022/11/Ativo-11@2x-100.jpg
END:VEVENT
BEGIN:VEVENT
DTSTART;VALUE=DATE:20221014
DTEND;VALUE=DATE:20221017
DTSTAMP:20260420T035134
CREATED:20221024T202059Z
LAST-MODIFIED:20230212T165927Z
UID:1458-1665705600-1665964799@centenario.escutismo.pt
SUMMARY:JOTA-JOTI 2022
DESCRIPTION:O Jamboree no Ar (JOTA) e Jamboree na Internet (JOTI) reúnem\, anualmente\, milhões de escuteiros de todo o mundo através do radioamadorismo e da internet.  \nAo longo do evento\, milhares de contactos são estabelecidos entre os escuteiros\, que aproveitam para debater um tema proposto a nível mundial. Várias estações\, desde Agrupamentos locais\, estruturas regionais e a Estação Nacional\, este ano localizada no Centro Escutista Padre Horácio Cura\, em Aveiro\, participaram nesta atividade. \nA Estação Nacional acolheu escuteiros de todo o país com uma atividade com o imaginário de “Oceanos\, Mares que ligam”. Houve vários jogos e ateliers associados aos Oceanos\, Mares\, e claro\, às comunicações. \n  \nCerimónia Evocativa dos 100 Anos do CNE\nDe forma a marcar as comemorações do Centenário do CNE\, existiu na Estação Nacional um pequeno espaço evocativo do Aniversário. \nNo sábado\, dia 15\, foi feito um trilho pelo passado\, presente e futuro assim como um debate sobre o tema da educação não formal\, uma característica do nosso Movimento. \nNesta sessão estiveram presentes o Chefe Carlos Alberto Pereira da Região de Braga\, antigo Chefe Nacional; o Chefe João Armando\, atual Presidente da Mesa dos Conselhos Nacionais e ex-presidente do Comité Mundial do Movimento Escutista\, órgão executivo da Organização Mundial do Movimento Escutista; e o Chefe Joaquim Freitas antigo membro do Comité Europeu da Organização Mundial do Movimento Escutista.
URL:https://centenario.escutismo.pt/event/teste/
LOCATION:Aveiro\, Centro de Formação Padre Horácio Cura\, Aveiro
CATEGORIES:Nacional
ATTACH;FMTTYPE=image/jpeg:https://centenario.escutismo.pt/wp-content/uploads/sites/24/2022/11/Ativo-10@2x-100.jpg
END:VEVENT
END:VCALENDAR